BEGIN:VCALENDAR
VERSION:2.0
PRODID:icalendar-ruby
CALSCALE:GREGORIAN
METHOD:PUBLISH
BEGIN:VEVENT
DTSTAMP:20260420T122449Z
UID:48-501519@pacoc.net
DTSTART:20261101T160000Z
DTEND:20261101T170000Z
CLASS:PUBLIC
CREATED:20260420T055520
DESCRIPTION:Sunday Morning Worship
LAST-MODIFIED:20260420T055520
LOCATION:Park Avenue Church of Christ
SUMMARY:Sunday Morning Worship
URL;VALUE=URI:https://pacoc.net/events/sunday-morning-worship/2026-11-01
END:VEVENT
END:VCALENDAR
