BEGIN:VCALENDAR
VERSION:2.0
PRODID:icalendar-ruby
CALSCALE:GREGORIAN
METHOD:PUBLISH
BEGIN:VEVENT
DTSTAMP:20260420T110931Z
UID:48-501518@pacoc.net
DTSTART:20261025T150000Z
DTEND:20261025T160000Z
CLASS:PUBLIC
CREATED:20260420T055520
DESCRIPTION:Sunday Morning Worship
LAST-MODIFIED:20260420T055520
LOCATION:Park Avenue Church of Christ
SUMMARY:Sunday Morning Worship
URL;VALUE=URI:https://pacoc.net/events/sunday-morning-worship/2026-10-25
END:VEVENT
END:VCALENDAR
