BEGIN:VCALENDAR
VERSION:2.0
PRODID:icalendar-ruby
CALSCALE:GREGORIAN
METHOD:PUBLISH
BEGIN:VEVENT
DTSTAMP:20260420T093629Z
UID:48-501190@pacoc.net
DTSTART:20261018T150000Z
DTEND:20261018T160000Z
CLASS:PUBLIC
CREATED:20260420T004448
DESCRIPTION:Sunday Morning Worship
LAST-MODIFIED:20260420T004448
LOCATION:Park Avenue Church of Christ
SUMMARY:Sunday Morning Worship
URL;VALUE=URI:https://pacoc.net/events/sunday-morning-worship/2026-10-18
END:VEVENT
END:VCALENDAR
